Workbook

Sheet DADOS DA OBRA
A6: ESTADO DO PARÁ
A7: PREFEITURA MUNICIPAL DE ÓBIDOS
A8: CNPJ: 05.131.180/0001-64
A10: OBJETO: PAVIMENTAÇÃO E QUALIFICAÇÃO ASFALTICA DE VIAS URBANAS NO MUNICIPIO DE ÓBIDOS
A11: LOCAL: MUNCÍPIO DE ÓBIDOS
A13: DADOS DA OBRA
A15: PAVIMENTAÇÃO - CBUQ = 0,03M
A16: Item | B16: Vias Contempladas | C16: Comprimento | D16: Largura | E16: Área
C17: m | D17: m | E17: m²
A18: 1 | B18: TRAV MARIO TORRES | C18: 425 | D18: 7 | E18: =C18*D18 -> 2975
A19: 2 | B19: ISAAC HAMOY | C19: 420 | D19: 7 | E19: =C19*D19 -> 2940
A20: 3 | B20: JOSÉ SARAZIM FLORENZANO | C20: 730 | D20: 7 | E20: =C20*D20 -> 5110
A21: 4 | B21: RAIMUNDA ANTONIETA CANTO | C21: 1005 | D21: 7 | E21: =C21*D21 -> 7035
A22: 5 | B22: RUA BELA VISTA | C22: 210 | D22: 7 | E22: =C22*D22 -> 1470
A23: 6 | B23: RUA 26 DE JULHO | C23: 98 | D23: 7 | E23: =C23*D23 -> 686
A24: 7 | B24: RUA 4 DE OUTUBRO | C24: 165 | D24: 7 | E24: =C24*D24 -> 1155
A25: 8 | B25: RUA 1 DE JANEIRO | C25: 165 | D25: 7 | E25: =C25*D25 -> 1155
A26: 9 | B26: RUA 25 DE DEZEMBRO | C26: 170 | D26: 7 | E26: =C26*D26 -> 1190
A27: 10 | B27: RUA 13 DE MAIO | D27: 7 | E27: =C27*D27 -> 0 | G27: 98
A28: 11 | B28: RUA SEM DENOMINAÇÃO 1 | C28: 170 | D28: 7 | E28: =C28*D28 -> 1190
A29: 12 | B29: RUA SEM DENOMINAÇÃO 2 | D29: 7 | E29: =C29*D29 -> 0 | G29: 114
A30: 13 | B30: RUA SEM DENOMINAÇÃO 3 | C30: 172 | D30: 7 | E30: =C30*D30 -> 1204
A31: 14 | B31: RUA SEM DENOMINAÇÃO 4 | C31: 170 | D31: 7 | E31: =C31*D31 -> 1190
A32: 15 | B32: RUA SEM DENOMINAÇÃO 5 | D32: 7 | E32: =C32*D32 -> 0 | G32: =85+33 -> 118
A33: 16 | B33: TRAV INCONFIDENCIA | D33: 7 | E33: =C33*D33 -> 0 | G33: 160
A34: 17 | B34: TRAV JOSÉ TOMAS DE AQUINO | D34: 7 | E34: =C34*D34 -> 0 | G34: 180
A35: 18 | B35: TRAV INDEPENDENCIA | D35: 7 | E35: =C35*D35 -> 0 | G35: 280
A36: 19 | B36: TRAV 02 DE OUTUBRO | D36: 7 | E36: =C36*D36 -> 0 | G36: 290
A37: 20 | B37: RUA SANTOS DUMONT | D37: 9 | E37: =C37*D37 -> 0 | G37: 280
B38: TOTAL | C38: =SUM(C18:C37) -> 3900 | E38: =SUM(E18:E37) -> 27300
A40: Distância Média de Transporte (DMT)
B41: VIAS | C41: Usina de Asfalto
C42: km
B43: USINA DE ASFALTO - até a sede | C43: 6
B44: DMT ÓBIDOS-SANTARÉM | C44: 265.9

Sheet ORÇAMENTO  DESONERAÇÃO
A5: ='DADOS DA OBRA'!$A$6:$E$6 -> ESTADO DO PARÁ
A6: ='DADOS DA OBRA'!$A$7:$E$7 -> PREFEITURA MUNICIPAL DE ÓBIDOS
A7: ='DADOS DA OBRA'!A8:E8 -> CNPJ: 05.131.180/0001-64
A9: ='DADOS DA OBRA'!$A$10:$E$10 -> OBJETO: PAVIMENTAÇÃO E QUALIFICAÇÃO ASFALTICA DE VIAS URBANAS NO MUNICIPIO DE ÓBIDOS
A10: ='DADOS DA OBRA'!$A$11:$E$11 -> LOCAL: MUNCÍPIO DE ÓBIDOS
A11: PLANILHA ORÇAMENTÁRIA COM DESONERAÇÃO - BDI: | G11: =B.D.I!I28 -> 0.2977 | H11: REFERÊNCIA: | I11: SINAPI JUN/2023 DES
I12: SEDOP MAI/2023
I13: SICRO JAN/2023
H14: PRAZO: | I14: 180 DIAS
A16: Fonte | B16: Item | C16: Código | D16: Descrição | E16: Unidade | F16: Quantidade | G16: =IF(TIPOORCAMENTO="Licitado","","Custo Unitário (sem BDI) (R$)") -> Custo Unitário (sem BDI) (R$) | H16: Preço Unitário (com BDI) (R$) | I16: Preço Total (R$)
B18: 1 | D18: MOBILIZAÇÃO E DESMOBILIZAÇÃO
A19: Composição | B19: 1.1 | C19: ='CPU 01- MOBILIZAÇÃO'!A14 -> CPU 001 | D19: Mobilização e Desmobilização da Obra | E19: uni | F19: ='1.MOB.'!M45 -> 1 | G19: ='CPU 01- MOBILIZAÇÃO'!M14 -> 21943.83 | H19: =G19+(G19*$G$11) -> 28476.51 | I19: =ROUND((H19*F19),2) -> 28476.51
H20: TOTAL DO ITEM 02 | I20: =SUM(I19:I19) -> 28476.51
B22: 2 | D22: SERVIÇOS PRELIMINARES
A23: SEDOP | B23: 2.1 | C23: 10004 | D23: Placa da obra em chapa galvanizada | E23: m² | F23: ='2.SER.PREL.'!F21 -> 7.5 | G23: 548.96 | H23: =G23+(G23*$G$11) -> 712.39 | I23: =ROUND((H23*F23),2) -> 5342.93
H24: TOTAL DO ITEM 02 | I24: =SUM(I23:I23) -> 5342.93
B26: 3 | D26: PAVIMENTAÇÃO ÁSFALTICA
A27: Composição | B27: 3.1 | C27: CPU 02 | D27: Imprimação com asfalto diluído | E27: m² | F27: ='3.PAV.'!C43 -> 27300 | G27: 9.17 | H27: =G27+(G27*$G$11) -> 11.9 | I27: =ROUND((H27*F27),2) -> 324870
A28: Composição | B28: 3.2 | C28: CPU 03 | D28: Execução de pintura de ligação | E28: m² | F28: =F27 -> 27300 | G28: 2.95 | H28: =G28+(G28*$G$11) -> 3.83 | I28: =ROUND((H28*F28),2) -> 104559
A29: SINAPI | B29: 3.3 | C29: 95955 | D29: Execução de pavimento com aplicação de concreto asfaltico, camada de rolamento- exclusive carga e transporte. AF_11/2019 | E29: m³ | F29: ='3.PAV.'!C99 -> 819 | G29: 2634.97 | H29: =G29+(G29*$G$11) -> 3419.4 | I29: =ROUND((H29*F29),2) -> 2800488.6
A30: SINAPI | B30: 3.4 | C30: 95878 | D30: Transporte com caminhão basculante 10 m3 de massa asfáltica para pavimentação urbana | E30: m³xkm | F30: ='3.PAV.'!C128 -> 4914 | G30: 1.51 | H30: =G30+(G30*$G$11) -> 1.96 | I30: =ROUND((H30*F30),2) -> 9631.44
H31: TOTAL DO ITEM 04 | I31: =SUM(I27:I30) -> 3239549
A33: TOTAL GERAL | I33: =I20+I24+I31 -> 3273368.5
J34: concedente 3x | K34: =I33-K35 -> 2946031.6
J35: convenente 3x | K35: =I33*0.1 -> 327336.85
J37: concedente 3x | K37: =K34/3 -> 982010.54
J38: convenente 3x | K38: =K35/3 -> 109112.28

Sheet 1.MOB.
A4: ='DADOS DA OBRA'!$A$6:$E$6 -> ESTADO DO PARÁ
A5: ='DADOS DA OBRA'!$A$7:$E$7 -> PREFEITURA MUNICIPAL DE ÓBIDOS
A6: ='DADOS DA OBRA'!$A$8:$E$8 -> CNPJ: 05.131.180/0001-64
A7: ='DADOS DA OBRA'!$A$10:$E$10 -> OBJETO: PAVIMENTAÇÃO E QUALIFICAÇÃO ASFALTICA DE VIAS URBANAS NO MUNICIPIO DE ÓBIDOS
A8: ='DADOS DA OBRA'!$A$11:$E$11 -> LOCAL: MUNCÍPIO DE ÓBIDOS
A10: 2 | B10: MOBILIZAÇÃO E DESMOBILIZAÇÃO
A12: MEMÓRIA DE CÁLCULO - CAVALO MECÂNICO
A13: FONTE | B13: CÓDIGO | C13: SERVIÇOS | D13: EQUIPAMENTOS TRANSPORTADOS
D14: DESCRIÇÃO | H14: QUANT. | I14: FU | J14: QUANT. X FU | K14: FONTE | L14: CÓDIGO | M14: TRANSPORTE VIA
A15: SINAPI | B15: 96402 | C15: EXECUÇÃO DE PINTURA DE LIGAÇÃO COM EMULSÃO ASFÁLTICA RR-2C. AF_11/2019 | D15: TRATOR DE PNEUS, POTÊNCIA 85 CV, TRAÇÃO 4X4, PESO COM LASTRO DE 4.675 KG | H15: 1 | I15: 1 | J15: 1 | K15: SINAPI | L15: 5837 | M15: Cavalo mecânico com semi-reboque e capacidade de 35 t - 210 Kw
A17: SINAPI | B17: 95995 | C17: CONSTRUÇÃO DE PAVIMENTO COM APLICAÇÃO DE CONCRETO BETUMINOSO USINADO A QUENTE (CBUQ), CAMADA DE ROLAMENTO, COM ESPESSURA DE 3,0 CM - EXCLUSIVE TRANSPORTE. AF_03/2017 | D17: VIBROACABADORA DE ASFALTO SOBRE ESTEIRAS, LARGURA DE PAVIMENTAÇÃO 1,90M A 5,30 M, POTÊNCIA 105 HP CAPACIDADE 450 T/H | H17: 2 | I17: 1 | J17: 2 | K17: SINAPI | L17: 5837 | M17: Cavalo mecânico com semi-reboque e capacidade de 35 t - 210 Kw
D18: ROLO COMPACTADOR VIBRATORIO TANDEM, ACO LISO, POTENCIA 125 HP, PESO SEM/COM LASTRO 10,20/11,65 T, LARGURA DE TRABALHO 1,73 M | H18: 2 | I18: 1 | K18: SINAPI | L18: 95632 | M18: Cavalo mecânico com semi-reboque e capacidade de 35 t - 210 Kw
A19: TOTAL DE VEÍCULOS TRANSPORTADOS | J19: =ROUNDUP(SUM(J15:J18),0) -> 3
A21: MEMÓRIA DE CÁLCULO - CAMINHÃO TOCO
A22: FONTE | B22: CÓDIGO | C22: SERVIÇOS | D22: EQUIPAMENTOS
D23: DESCRIÇÃO | H23: QUANT. | I23: FU | J23: QUANT. X FU | K23: FONTE | L23: CÓDIGO | M23: TRANSPORTE VIA
A24: SINAPI | B24: 72943 | C24: EXECUÇÃO DE PINTURA DE LIGAÇÃO COM EMULSÃO ASFÁLTICA RR-2C. AF_11/2019 | D24: VASSOURA MECÂNICA REBOCÁVEL COM ESCOVA CILÍNDRICA, LARGURA ÚTIL DE VARRIMENTO DE 2,44 M | H24: 1 | I24: 1 | J24: =H24*I24 -> 1 | K24: SINAPI | L24: 5841 | M24: Caminhão Toco
A26: SINAPI | B26: 72947 | C26: SINALIZACAO HORIZONTAL COM TINTA RETRORREFLETIVA A BASE DE RESINA ACRILICA COM MICROESFERAS DE VIDRO | D26: MÁQUINA DEMARCADORA DE FAIXA DE TRÁFEGO À FRIO, AUTOPROPELIDA, POTÊNCIA 38 HP | H26: 1 | I26: 1 | J26: =H26*I26 -> 1 | K26: SINAPI | L26: 96159 | M26: Caminhão Toco
A27: SINAPI | B27: 72947 | C27: SINALIZACAO HORIZONTAL COM TINTA RETRORREFLETIVA A BASE DE RESINA ACRILICA COM MICROESFERAS DE VIDRO | D27: CAMINHÃO TOCO, PBT 16.000 KG, CARGA ÚTIL MÁX. 10.685 KG, DIST. ENTRE EIXOS 4,8 M, POTÊNCIA 189 CV, INCLUSIVE CARROCERIA FIXA ABERTA DE MADEIRA P/ TRANSPORTE GERAL DE CARGA SECA, DIMEN. APROX. 2,5 X 7,00 X 0,50 M | H27: 1 | I27: 1 | J27: =H27*I27 -> 1 | K27: SINAPI | L27: 5824 | M27: Condução por Conta Própria
A28: TOTAL DE VEÍCULOS TRANSPORTADOS | J28: =ROUNDUP(SUM(J24:J27),0) -> 3
A30: MEMÓRIA DE CÁLCULO - CAMINHÃO BASCULANTE 10 M3
A31: FONTE | B31: CÓDIGO | C31: SERVIÇOS | D31: EQUIPAMENTOS
D32: DESCRIÇÃO | H32: QUANT. | I32: FU | J32: QUANT. X FU | K32: FONTE | L32: CÓDIGO | M32: TRANSPORTE VIA
A33: SINAPI | B33: 95303 | C33: TRANSPORTE COM CAMINHÃO BASCULANTE DE 18 M³, EM VIA URBANA PAVIMENTADA, ADICIONAL PARA DMT EXCEDENTE A 30 KM (UNIDADE: M3XKM). AF_07/2020 | D33: CAMINHÃO BASCULANTE 10 M3, TRUCADO CABINE SIMPLES, PESO BRUTO TOTAL 23.000 KG, CARGA ÚTIL MÁXIMA 15.935 KG, DISTÂNCIA ENTRE EIXOS 4,80 M, POTÊNCIA 230 CV INCLUSIVE CAÇAMBA METÁLICA - CHP DIURNO. AF_06/2014 | H33: 2 | I33: 1 | J33: =ROUND(H33*I33,2) -> 2 | K33: SINAPI | L33: 91386 | M33: Condução por Conta Própria
A35: TOTAL DE VEÍCULOS TRANSPORTADOS | J35: =ROUNDUP(SUM(J33),0) -> 2
A37: MEMÓRIA DE CÁLCULO - ESPARGIDOR DE ASFALTO PRESSURIZADO
A38: FONTE | B38: CÓDIGO | C38: SERVIÇOS | D38: EQUIPAMENTOS
D39: DESCRIÇÃO | H39: QUANT. | I39: FU | J39: QUANT. X FU | K39: FONTE | L39: CÓDIGO | M39: TRANSPORTE VIA
A40: SINAPI | B40: 72943 | C40: EXECUÇÃO DE PINTURA DE LIGAÇÃO COM EMULSÃO ASFÁLTICA RR-2C. AF_11/2019 | D40: ESPARGIDOR DE ASFALTO PRESSURIZADO, TANQUE 6 M3 COM ISOLAÇÃO TÉRMICA, AQUECIDO COM 2 MAÇARICOS, COM BARRA ESPARGIDORA 3,60 M, MONTADO SOBRE CAMINHÃO TOCO, PBT 14.300 KG, POTÊNCIA 185 CV - CHP DIURNO. AF_08/2015 | H40: 1 | I40: 1 | J40: =ROUND(H40*I40,2) -> 1 | K40: SINAPI | L40: 83362 | M40: Condução por Conta Própria
A42: TOTAL DE VEÍCULOS TRANSPORTADOS | J42: =ROUNDUP(SUM(J40),0) -> 1
G44: MOBILIZAÇÃO | M44: 1
M45: =SUM(M44:M44) -> 1
A47: CALCULA-SE O FRETE UTILIZANDO A DURAÇÃO DO PERCURSO (EM HORAS), ATRAVÉS DA DISTÂNCIA DIVIDA PELA VELOCIDADE MÉDIA:
A48: DISTÂNCIA DE 50 KM (Quatipuru/Capanama)
A49: VELOCIDADE MÉDIA EM RODOVIA PAVIMENTADA = 60KM/H;
A50: CMob = REPRESENTA O CUSTO DE MOBILIZAÇÃO;
A51: DM = REPRESENTA A DISTÂNCIA DE MOBILIZAÇÃO, EM QUILÔMETROS (KM) OU EM MILHAS NÁUTICAS (MI);
A52: K = REPRESENTA O FATOR RELACIONADO À NECESSIDADE DE RETORNO DO VEÍCULO A SUA ORIGEM;
A53: FU = REPRESENTA O FATOR DE UTILIZAÇÃO DO VEÍCULO TRANSPORTADOR
A54: V = REPRESENTA A VELOCIDADE MÉDIA DE TRANSPORTE, EM KM/H OU NÓS;
...

Sheet 2.SER.PREL.
A6: ='DADOS DA OBRA'!$A$6:$E$6 -> ESTADO DO PARÁ
A7: ='DADOS DA OBRA'!$A$7:$E$7 -> PREFEITURA MUNICIPAL DE ÓBIDOS
A8: ='DADOS DA OBRA'!$A$8:$E$8 -> CNPJ: 05.131.180/0001-64
A10: ='DADOS DA OBRA'!$A$10:$E$10 -> OBJETO: PAVIMENTAÇÃO E QUALIFICAÇÃO ASFALTICA DE VIAS URBANAS NO MUNICIPIO DE ÓBIDOS
A11: ='DADOS DA OBRA'!$A$11:$E$11 -> LOCAL: MUNCÍPIO DE ÓBIDOS
A13: MEMORIAL DE CALCULO E QUANTITATIVOS
A15: ='ORÇAMENTO DESONERAÇÃO'!B22 -> 2 | B15: ='ORÇAMENTO DESONERAÇÃO'!D22 -> SERVIÇOS PRELIMINARES
A17: ='ORÇAMENTO DESONERAÇÃO'!B23 -> 2.1 | B17: ='ORÇAMENTO DESONERAÇÃO'!D23 -> Placa da obra em chapa galvanizada
A18: Comp. | C18: Altura | E18: Quant | G18: Área
A19: 3 | B19: x | C19: 2.5 | D19: x | E19: 1 | F19: x | G19: =A19*C19*E19 -> 7.5
E21: Total | F21: =G19 -> 7.5 | G21: m²

Sheet 3. REV PRI
A6: ='DADOS DA OBRA'!$A$6:$E$6 -> ESTADO DO PARÁ
A7: ='DADOS DA OBRA'!$A$7:$E$7 -> PREFEITURA MUNICIPAL DE ÓBIDOS
A8: ='DADOS DA OBRA'!$A$8:$E$8 -> CNPJ: 05.131.180/0001-64
A10: ='DADOS DA OBRA'!$A$10:$E$10 -> OBJETO: PAVIMENTAÇÃO E QUALIFICAÇÃO ASFALTICA DE VIAS URBANAS NO MUNICIPIO DE ÓBIDOS
A11: ='DADOS DA OBRA'!$A$11:$E$11 -> LOCAL: MUNCÍPIO DE ÓBIDOS
A13: MEMORIA DE CALCULO
A15: ='ORÇAMENTO DESONERAÇÃO'!#REF! -> #REF! | B15: ='ORÇAMENTO DESONERAÇÃO'!#REF! -> #REF!
A17: ='ORÇAMENTO DESONERAÇÃO'!#REF! -> #REF! | B17: ='ORÇAMENTO DESONERAÇÃO'!#REF! -> #REF!
B18: Vias Contempladas | C18: Comp. | D18: x | E18: Largura | F18: = | G18: Área
C19: m | E19: m | G19: m²
A20: ='DADOS DA OBRA'!A15:E15 -> PAVIMENTAÇÃO - CBUQ = 0,03M
A21: ='DADOS DA OBRA'!A18 -> 1 | B21: ='DADOS DA OBRA'!B18 -> TRAV MARIO TORRES | C21: ='DADOS DA OBRA'!C18 -> 425 | D21: x | E21: ='DADOS DA OBRA'!D18 -> 7 | F21: = | G21: =C21*E21 -> 2975
A22: ='DADOS DA OBRA'!A19 -> 2 | B22: ='DADOS DA OBRA'!B19 -> ISAAC HAMOY | C22: ='DADOS DA OBRA'!C19 -> 420 | D22: x | E22: ='DADOS DA OBRA'!D19 -> 7 | F22: = | G22: =C22*E22 -> 2940
A23: ='DADOS DA OBRA'!A20 -> 3 | B23: ='DADOS DA OBRA'!B20 -> JOSÉ SARAZIM FLORENZANO | C23: ='DADOS DA OBRA'!C20 -> 730 | D23: x | E23: ='DADOS DA OBRA'!D20 -> 7 | F23: = | G23: =C23*E23 -> 5110
A24: ='DADOS DA OBRA'!A21 -> 4 | B24: ='DADOS DA OBRA'!B21 -> RAIMUNDA ANTONIETA CANTO | C24: ='DADOS DA OBRA'!C21 -> 1005 | D24: x | E24: ='DADOS DA OBRA'!D21 -> 7 | F24: = | G24: =C24*E24 -> 7035
A25: ='DADOS DA OBRA'!A22 -> 5 | B25: ='DADOS DA OBRA'!B22 -> RUA BELA VISTA | C25: ='DADOS DA OBRA'!C22 -> 210 | D25: x | E25: ='DADOS DA OBRA'!D22 -> 7 | F25: = | G25: =C25*E25 -> 1470
A26: ='DADOS DA OBRA'!A23 -> 6 | B26: ='DADOS DA OBRA'!B23 -> RUA 26 DE JULHO | C26: ='DADOS DA OBRA'!C23 -> 98 | D26: x | E26: ='DADOS DA OBRA'!D23 -> 7 | F26: = | G26: =C26*E26 -> 686
A27: ='DADOS DA OBRA'!A24 -> 7 | B27: ='DADOS DA OBRA'!B24 -> RUA 4 DE OUTUBRO | C27: ='DADOS DA OBRA'!C24 -> 165 | D27: x | E27: ='DADOS DA OBRA'!D24 -> 7 | F27: = | G27: =C27*E27 -> 1155
A28: ='DADOS DA OBRA'!A25 -> 8 | B28: ='DADOS DA OBRA'!B25 -> RUA 1 DE JANEIRO | C28: ='DADOS DA OBRA'!C25 -> 165 | D28: x | E28: ='DADOS DA OBRA'!D25 -> 7 | F28: = | G28: =C28*E28 -> 1155
A29: ='DADOS DA OBRA'!A26 -> 9 | B29: ='DADOS DA OBRA'!B26 -> RUA 25 DE DEZEMBRO | C29: ='DADOS DA OBRA'!C26 -> 170 | D29: x | E29: ='DADOS DA OBRA'!D26 -> 7 | F29: = | G29: =C29*E29 -> 1190
A30: ='DADOS DA OBRA'!A27 -> 10 | B30: ='DADOS DA OBRA'!B27 -> RUA 13 DE MAIO | C30: ='DADOS DA OBRA'!C27 -> 0 | D30: x | E30: ='DADOS DA OBRA'!D28 -> 7 | F30: = | G30: =C30*E30 -> 0
A31: ='DADOS DA OBRA'!A28 -> 11 | B31: ='DADOS DA OBRA'!B28 -> RUA SEM DENOMINAÇÃO 1 | C31: ='DADOS DA OBRA'!C28 -> 170 | D31: x | E31: ='DADOS DA OBRA'!D29 -> 7 | F31: = | G31: =C31*E31 -> 1190
A32: ='DADOS DA OBRA'!A29 -> 12 | B32: ='DADOS DA OBRA'!B29 -> RUA SEM DENOMINAÇÃO 2 | C32: ='DADOS DA OBRA'!C29 -> 0 | D32: x | E32: ='DADOS DA OBRA'!D30 -> 7 | F32: = | G32: =C32*E32 -> 0
A33: ='DADOS DA OBRA'!A30 -> 13 | B33: ='DADOS DA OBRA'!B30 -> RUA SEM DENOMINAÇÃO 3 | C33: ='DADOS DA OBRA'!C30 -> 172 | D33: x | E33: ='DADOS DA OBRA'!D31 -> 7 | F33: = | G33: =C33*E33 -> 1204
A34: ='DADOS DA OBRA'!A31 -> 14 | B34: ='DADOS DA OBRA'!B31 -> RUA SEM DENOMINAÇÃO 4 | C34: ='DADOS DA OBRA'!C31 -> 170 | D34: x | E34: ='DADOS DA OBRA'!D32 -> 7 | F34: = | G34: =C34*E34 -> 1190
A35: ='DADOS DA OBRA'!A32 -> 15 | B35: ='DADOS DA OBRA'!B32 -> RUA SEM DENOMINAÇÃO 5 | C35: ='DADOS DA OBRA'!C32 -> 0 | D35: x | E35: ='DADOS DA OBRA'!D33 -> 7 | F35: = | G35: =C35*E35 -> 0
A36: ='DADOS DA OBRA'!A33 -> 16 | B36: ='DADOS DA OBRA'!B33 -> TRAV INCONFIDENCIA | C36: ='DADOS DA OBRA'!C33 -> 0 | D36: x | E36: ='DADOS DA OBRA'!D34 -> 7 | F36: = | G36: =C36*E36 -> 0
A37: ='DADOS DA OBRA'!A34 -> 17 | B37: ='DADOS DA OBRA'!B34 -> TRAV JOSÉ TOMAS DE AQUINO | C37: ='DADOS DA OBRA'!C34 -> 0 | D37: x | E37: ='DADOS DA OBRA'!D35 -> 7 | F37: = | G37: =C37*E37 -> 0
A38: ='DADOS DA OBRA'!A35 -> 18 | B38: ='DADOS DA OBRA'!B35 -> TRAV INDEPENDENCIA | C38: ='DADOS DA OBRA'!C35 -> 0 | D38: x | E38: ='DADOS DA OBRA'!D36 -> 7 | F38: = | G38: =C38*E38 -> 0
A39: ='DADOS DA OBRA'!A36 -> 19 | B39: ='DADOS DA OBRA'!B36 -> TRAV 02 DE OUTUBRO | C39: ='DADOS DA OBRA'!C36 -> 0 | D39: x | E39: ='DADOS DA OBRA'!D37 -> 9 | F39: = | G39: =C39*E39 -> 0
G40: =SUM(G21:G39) -> 27300
B42: TOTAL | C42: =G40 -> 27300 | D42: m²
A44: ='ORÇAMENTO DESONERAÇÃO'!#REF! -> #REF! | B44: ='ORÇAMENTO DESONERAÇÃO'!#REF! -> #REF!
B45: Vias Contempladas | C45: Comp. | D45: x | E45: Largura | F45: = | G45: Área
C46: m | E46: m | G46: m²
A47: ='DADOS DA OBRA'!A15:E15 -> PAVIMENTAÇÃO - CBUQ = 0,03M
A48: ='DADOS DA OBRA'!A18 -> 1 | B48: ='DADOS DA OBRA'!B18 -> TRAV MARIO TORRES | C48: ='DADOS DA OBRA'!C18 -> 425 | D48: x | E48: ='DADOS DA OBRA'!D18 -> 7 | F48: = | G48: =C48*E48 -> 2975
A49: ='DADOS DA OBRA'!A19 -> 2 | B49: ='DADOS DA OBRA'!B19 -> ISAAC HAMOY | C49: ='DADOS DA OBRA'!C19 -> 420 | D49: x | E49: ='DADOS DA OBRA'!D19 -> 7 | F49: = | G49: =C49*E49 -> 2940
A50: ='DADOS DA OBRA'!A20 -> 3 | B50: ='DADOS DA OBRA'!B20 -> JOSÉ SARAZIM FLORENZANO | C50: ='DADOS DA OBRA'!C20 -> 730 | D50: x | E50: ='DADOS DA OBRA'!D20 -> 7 | F50: = | G50: =C50*E50 -> 5110
A51: ='DADOS DA OBRA'!A21 -> 4 | B51: ='DADOS DA OBRA'!B21 -> RAIMUNDA ANTONIETA CANTO | C51: ='DADOS DA OBRA'!C21 -> 1005 | D51: x | E51: ='DADOS DA OBRA'!D21 -> 7 | F51: = | G51: =C51*E51 -> 7035
...

Sheet 3.PAV.
A6: ='DADOS DA OBRA'!$A$6:$E$6 -> ESTADO DO PARÁ
A7: ='DADOS DA OBRA'!$A$7:$E$7 -> PREFEITURA MUNICIPAL DE ÓBIDOS
A8: ='DADOS DA OBRA'!$A$8:$E$8 -> CNPJ: 05.131.180/0001-64
A10: ='DADOS DA OBRA'!$A$10:$E$10 -> OBJETO: PAVIMENTAÇÃO E QUALIFICAÇÃO ASFALTICA DE VIAS URBANAS NO MUNICIPIO DE ÓBIDOS
A11: ='DADOS DA OBRA'!$A$11:$E$11 -> LOCAL: MUNCÍPIO DE ÓBIDOS
A13: ='3. REV PRI'!A13:J13 -> MEMORIA DE CALCULO
A15: ='ORÇAMENTO DESONERAÇÃO'!B26 -> 3 | B15: ='ORÇAMENTO DESONERAÇÃO'!D26 -> PAVIMENTAÇÃO ÁSFALTICA
A17: ='ORÇAMENTO DESONERAÇÃO'!B27 -> 3.1 | B17: ='ORÇAMENTO DESONERAÇÃO'!D27 -> Imprimação com asfalto diluído
B18: Vias Contempladas | C18: Comp. | D18: x | E18: Largura | F18: = | G18: Área
C19: m | E19: m | G19: m²
A20: RECAPEAMENTO
A21: ='DADOS DA OBRA'!A18 -> 1 | B21: ='DADOS DA OBRA'!B18 -> TRAV MARIO TORRES | C21: ='DADOS DA OBRA'!C18 -> 425 | D21: x | E21: ='DADOS DA OBRA'!D18 -> 7 | F21: = | G21: =C21*E21 -> 2975
A22: ='DADOS DA OBRA'!A19 -> 2 | B22: ='DADOS DA OBRA'!B19 -> ISAAC HAMOY | C22: ='DADOS DA OBRA'!C19 -> 420 | D22: x | E22: ='DADOS DA OBRA'!D19 -> 7 | F22: = | G22: =C22*E22 -> 2940
A23: ='DADOS DA OBRA'!A20 -> 3 | B23: ='DADOS DA OBRA'!B20 -> JOSÉ SARAZIM FLORENZANO | C23: ='DADOS DA OBRA'!C20 -> 730 | D23: x | E23: ='DADOS DA OBRA'!D20 -> 7 | F23: = | G23: =C23*E23 -> 5110
A24: ='DADOS DA OBRA'!A21 -> 4 | B24: ='DADOS DA OBRA'!B21 -> RAIMUNDA ANTONIETA CANTO | C24: ='DADOS DA OBRA'!C21 -> 1005 | D24: x | E24: ='DADOS DA OBRA'!D21 -> 7 | F24: = | G24: =C24*E24 -> 7035
A25: ='DADOS DA OBRA'!A22 -> 5 | B25: ='DADOS DA OBRA'!B22 -> RUA BELA VISTA | C25: ='DADOS DA OBRA'!C22 -> 210 | D25: x | E25: ='DADOS DA OBRA'!D22 -> 7 | F25: = | G25: =C25*E25 -> 1470
A26: ='DADOS DA OBRA'!A23 -> 6 | B26: ='DADOS DA OBRA'!B23 -> RUA 26 DE JULHO | C26: ='DADOS DA OBRA'!C23 -> 98 | D26: x | E26: ='DADOS DA OBRA'!D23 -> 7 | F26: = | G26: =C26*E26 -> 686
A27: ='DADOS DA OBRA'!A24 -> 7 | B27: ='DADOS DA OBRA'!B24 -> RUA 4 DE OUTUBRO | C27: ='DADOS DA OBRA'!C24 -> 165 | D27: x | E27: ='DADOS DA OBRA'!D24 -> 7 | F27: = | G27: =C27*E27 -> 1155
A28: ='DADOS DA OBRA'!A25 -> 8 | B28: ='DADOS DA OBRA'!B25 -> RUA 1 DE JANEIRO | C28: ='DADOS DA OBRA'!C25 -> 165 | D28: x | E28: ='DADOS DA OBRA'!D25 -> 7 | F28: = | G28: =C28*E28 -> 1155
A29: ='DADOS DA OBRA'!A26 -> 9 | B29: ='DADOS DA OBRA'!B26 -> RUA 25 DE DEZEMBRO | C29: ='DADOS DA OBRA'!C26 -> 170 | D29: x | E29: ='DADOS DA OBRA'!D26 -> 7 | F29: = | G29: =C29*E29 -> 1190
A30: ='DADOS DA OBRA'!A27 -> 10 | B30: ='DADOS DA OBRA'!B27 -> RUA 13 DE MAIO | C30: ='DADOS DA OBRA'!C27 -> 0 | D30: x | E30: ='DADOS DA OBRA'!D27 -> 7 | F30: = | G30: =C30*E30 -> 0
A31: ='DADOS DA OBRA'!A28 -> 11 | B31: ='DADOS DA OBRA'!B28 -> RUA SEM DENOMINAÇÃO 1 | C31: ='DADOS DA OBRA'!C28 -> 170 | D31: x | E31: ='DADOS DA OBRA'!D28 -> 7 | F31: = | G31: =C31*E31 -> 1190
A32: ='DADOS DA OBRA'!A29 -> 12 | B32: ='DADOS DA OBRA'!B29 -> RUA SEM DENOMINAÇÃO 2 | C32: ='DADOS DA OBRA'!C29 -> 0 | D32: x | E32: ='DADOS DA OBRA'!D29 -> 7 | F32: = | G32: =C32*E32 -> 0
... A40: ='DADOS DA OBRA'!A37 -> 20 | B40: ='DADOS DA OBRA'!B37 -> RUA SANTOS DUMONT | C40: ='DADOS DA OBRA'!C37 -> 0 | D40: x | E40: ='DADOS DA OBRA'!D37 -> 9 | F40: = | G40: =C40*E40 -> 0
F41: TOTAL | G41: =SUM(G21:G40) -> 27300
B43: TOTAL | C43: =G41 -> 27300 | D43: m²
A45: ='ORÇAMENTO DESONERAÇÃO'!B28 -> 3.2 | B45: ='ORÇAMENTO DESONERAÇÃO'!D28 -> Execução de pintura de ligação
B46: Vias Contempladas | C46: Comp. | D46: x | E46: Largura | F46: = | G46: Área
C47: m | E47: m | G47: m²
A48: RECAPEAMENTO
A49: =A21 -> 1 | B49: =B21 -> TRAV MARIO TORRES | C49: =C21 -> 425 | D49: x | E49: =E21 -> 7 | F49: = | G49: =C49*E49 -> 2975
A50: =A22 -> 2 | B50: =B22 -> ISAAC HAMOY | C50: =C22 -> 420 | D50: x | E50: =E22 -> 7 | F50: = | G50: =C50*E50 -> 2940
A51: =A23 -> 3 | B51: =B23 -> JOSÉ SARAZIM FLORENZANO | C51: =C23 -> 730 | D51: x | E51: =E23 -> 7 | F51: = | G51: =C51*E51 -> 5110
A52: =A24 -> 4 | B52: =B24 -> RAIMUNDA ANTONIETA CANTO | C52: =C24 -> 1005 | D52: x | E52: =E24 -> 7 | F52: = | G52: =C52*E52 -> 7035
A53: =A25 -> 5 | B53: =B25 -> RUA BELA VISTA | C53: =C25 -> 210 | D53: x | E53: =E25 -> 7 | F53: = | G53: =C53*E53 -> 1470
A54: =A26 -> 6 | B54: =B26 -> RUA 26 DE JULHO | C54: =C26 -> 98 | D54: x | E54: =E26 -> 7 | F54: = | G54: =C54*E54 -> 686
A55: =A27 -> 7 | B55: =B27 -> RUA 4 DE OUTUBRO | C55: =C27 -> 165 | D55: x | E55: =E27 -> 7 | F55: = | G55: =C55*E55 -> 1155
A56: =A28 -> 8 | B56: =B28 -> RUA 1 DE JANEIRO | C56: =C28 -> 165 | D56: x | E56: =E28 -> 7 | F56: = | G56: =C56*E56 -> 1155
A57: =A29 -> 9 | B57: =B29 -> RUA 25 DE DEZEMBRO | C57: =C29 -> 170 | D57: x | E57: =E29 -> 7 | F57: = | G57: =C57*E57 -> 1190
A58: =A30 -> 10 | B58: =B30 -> RUA 13 DE MAIO | C58: =C30 -> 0 | D58: x | E58: =E30 -> 7 | F58: = | G58: =C58*E58 -> 0
...

Sheet 5.DREN.
A4: ='ORÇAMENTO DESONERAÇÃO'!A5:I5 -> ESTADO DO PARÁ
A5: ='ORÇAMENTO DESONERAÇÃO'!A6:I6 -> PREFEITURA MUNICIPAL DE ÓBIDOS
A6: ='ORÇAMENTO DESONERAÇÃO'!A7:I7 -> CNPJ: 05.131.180/0001-64
A7: ='ORÇAMENTO DESONERAÇÃO'!A9:I9 -> OBJETO: PAVIMENTAÇÃO E QUALIFICAÇÃO ASFALTICA DE VIAS URBANAS NO MUNICIPIO DE ÓBIDOS
A9: ='3.PAV.'!A13:K13 -> MEMORIA DE CALCULO
A11: ='ORÇAMENTO DESONERAÇÃO'!#REF! -> #REF! | B11: ='ORÇAMENTO DESONERAÇÃO'!#REF! -> #REF!
A13: ='ORÇAMENTO DESONERAÇÃO'!#REF! -> #REF! | B13: ='ORÇAMENTO DESONERAÇÃO'!#REF! -> #REF!
A15: ='ORÇAMENTO DESONERAÇÃO'!#REF! -> #REF! | B15: ='ORÇAMENTO DESONERAÇÃO'!#REF! -> #REF!
A17: OBS.: Será considerado a extensão de cada rua e multiplicado por "2", sendo o bordo esquerdo e direito
B19: rua | E19: comp. (m) | F19: x | G19: quant. lados | H19: total (m)
B20: ='DADOS DA OBRA'!B18 -> TRAV MARIO TORRES | E20: ='DADOS DA OBRA'!C18 -> 425 | F20: x | G20: 2 | H20: =ROUND((E20*G20),2) -> 850
B21: ='DADOS DA OBRA'!B19 -> ISAAC HAMOY | E21: ='DADOS DA OBRA'!C19 -> 420 | F21: x | G21: 2 | H21: =ROUND((E21*G21),2) -> 840
B22: ='DADOS DA OBRA'!B20 -> JOSÉ SARAZIM FLORENZANO | E22: ='DADOS DA OBRA'!C20 -> 730 | F22: x | G22: 2 | H22: =ROUND((E22*G22),2) -> 1460
B23: ='DADOS DA OBRA'!B21 -> RAIMUNDA ANTONIETA CANTO | E23: ='DADOS DA OBRA'!C21 -> 1005 | F23: x | G23: 2 | H23: =ROUND((E23*G23),2) -> 2010
B24: ='DADOS DA OBRA'!B22 -> RUA BELA VISTA | E24: ='DADOS DA OBRA'!C22 -> 210 | F24: x | G24: 2 | H24: =ROUND((E24*G24),2) -> 420
B25: ='DADOS DA OBRA'!B23 -> RUA 26 DE JULHO | E25: ='DADOS DA OBRA'!C23 -> 98 | F25: x | G25: 2 | H25: =ROUND((E25*G25),2) -> 196
B26: ='DADOS DA OBRA'!B24 -> RUA 4 DE OUTUBRO | E26: ='DADOS DA OBRA'!C24 -> 165 | F26: x | G26: 2 | H26: =ROUND((E26*G26),2) -> 330
B27: ='DADOS DA OBRA'!B25 -> RUA 1 DE JANEIRO | E27: ='DADOS DA OBRA'!C25 -> 165 | F27: x | G27: 2 | H27: =ROUND((E27*G27),2) -> 330
B28: ='DADOS DA OBRA'!B26 -> RUA 25 DE DEZEMBRO | E28: ='DADOS DA OBRA'!C26 -> 170 | F28: x | G28: 2 | H28: =ROUND((E28*G28),2) -> 340
B29: ='DADOS DA OBRA'!B28 -> RUA SEM DENOMINAÇÃO 1 | E29: ='DADOS DA OBRA'!C28 -> 170 | F29: x | G29: 2 | H29: =ROUND((E29*G29),2) -> 340
B30: ='DADOS DA OBRA'!B29 -> RUA SEM DENOMINAÇÃO 2 | E30: ='DADOS DA OBRA'!C29 -> 0 | F30: x | G30: 2 | H30: =ROUND((E30*G30),2) -> 0
B31: ='DADOS DA OBRA'!B30 -> RUA SEM DENOMINAÇÃO 3 | E31: ='DADOS DA OBRA'!C30 -> 172 | F31: x | G31: 2 | H31: =ROUND((E31*G31),2) -> 344
B32: ='DADOS DA OBRA'!B31 -> RUA SEM DENOMINAÇÃO 4 | E32: ='DADOS DA OBRA'!C31 -> 170 | F32: x | G32: 2 | H32: =ROUND((E32*G32),2) -> 340
B33: ='DADOS DA OBRA'!B32 -> RUA SEM DENOMINAÇÃO 5 | E33: ='DADOS DA OBRA'!C32 -> 0 | F33: x | G33: 2 | H33: =ROUND((E33*G33),2) -> 0
B34: ='DADOS DA OBRA'!B33 -> TRAV INCONFIDENCIA | E34: ='DADOS DA OBRA'!C33 -> 0 | F34: x | G34: 2 | H34: =ROUND((E34*G34),2) -> 0
B35: ='DADOS DA OBRA'!B34 -> TRAV JOSÉ TOMAS DE AQUINO | E35: ='DADOS DA OBRA'!C34 -> 0 | F35: x | G35: 2 | H35: =ROUND((E35*G35),2) -> 0
B36: ='DADOS DA OBRA'!B35 -> TRAV INDEPENDENCIA | E36: ='DADOS DA OBRA'!C35 -> 0 | F36: x | G36: 2 | H36: =ROUND((E36*G36),2) -> 0
B37: ='DADOS DA OBRA'!B36 -> TRAV 02 DE OUTUBRO | E37: ='DADOS DA OBRA'!C36 -> 0 | F37: x | G37: 2 | H37: =ROUND((E37*G37),2) -> 0
B38: ='DADOS DA OBRA'!B37 -> RUA SANTOS DUMONT | E38: ='DADOS DA OBRA'!C37 -> 0 | F38: x | G38: 2 | H38: =ROUND((E38*G38),2) -> 0
B39: TOTAL | E39: =SUM(E20:E38) -> 3900 | F39: x | G39: 2 | H39: =SUM(H20:H38) -> 7800
B41: COMP. TOTAL MEIO-FIO = | E41: =H39 -> 7800 | F41: M
A44: ='ORÇAMENTO DESONERAÇÃO'!#REF! -> #REF! | B44: ='ORÇAMENTO DESONERAÇÃO'!#REF! -> #REF!
A46: ='ORÇAMENTO DESONERAÇÃO'!#REF! -> #REF! | B46: ='ORÇAMENTO DESONERAÇÃO'!#REF! -> #REF!
A48: OBS.: Para o calculo do corpo do bueiro será considerado a largura total da rua e somado com um ascrecimo para cada lado, para que assim evite desmoronamentos.
A49: OBS.: Apenas a rua Boa Esperança possui a necessidade da execução de um bueiro.
B51: rua | E51: TAM | F51: x | G51: acréscimo | H51: x | I51: lados | J51: = | K51: total
E52: m | G52: m | I52: und
B53: ='DADOS DA OBRA'!B18 -> TRAV MARIO TORRES | E53: 180 | F53: x | G53: 0 | H53: x | I53: 1 | J53: = | K53: =ROUND((G53*I53)+E53,2) -> 180
B54: ='DADOS DA OBRA'!B19 -> ISAAC HAMOY | F54: x | G54: 0 | H54: x | I54: 0 | J54: = | K54: =ROUND((G54*I54)+E54,2) -> 0
B55: ='DADOS DA OBRA'!B20 -> JOSÉ SARAZIM FLORENZANO | F55: x | G55: 0 | H55: x | I55: 0 | J55: = | K55: =ROUND((G55*I55)+E55,2) -> 0
...

Sheet CPU 01- MOBILIZAÇÃO
A5: ='DADOS DA OBRA'!$A$6:$E$6 -> ESTADO DO PARÁ
A6: ='DADOS DA OBRA'!$A$7:$E$7 -> PREFEITURA MUNICIPAL DE ÓBIDOS
A7: ='DADOS DA OBRA'!$A$8:$E$8 -> CNPJ: 05.131.180/0001-64
A9: ='DADOS DA OBRA'!$A$10:$E$10 -> OBJETO: PAVIMENTAÇÃO E QUALIFICAÇÃO ASFALTICA DE VIAS URBANAS NO MUNICIPIO DE ÓBIDOS
A10: ='DADOS DA OBRA'!$A$11:$E$11 -> LOCAL: MUNCÍPIO DE ÓBIDOS
A12: COMPOSIÇÃO DE PREÇO UNITARIO - CPU
A14: CPU 001 | B14: ='ORÇAMENTO DESONERAÇÃO'!D19 -> Mobilização e Desmobilização da Obra | L14: UND | M14: =SUM(M18:M21) -> 21943.83
A17: FONTE | B17: CÓDIGO | C17: EQUIPAMENTOS TRANSPORTADORES | D17: ORIGEM | E17: DESTINO | F17: K (Nº VIAGENS) | G17: DIST. MÉDIA | H17: VELOCIDADE (KM/H) | I17: QUANTIDADE DE EQUIPAMENTOS | L17: PREÇO UNIT. | M17: PREÇO TOTAL
A18: SICRO | B18: E9665 | C18: CAVALO MECÂNICO COM SEMI-REBOQUE E CAPACIDADE DE 22 T - 240 KW | D18: SANTARÉM | E18: ÓBIDOS | F18: 2 | G18: 260 | H18: 60 | I18: ='1.MOB.'!J19 -> 3 | L18: 397.67 | M18: =ROUND((F18*G18*I18/H18)*L18,2) -> 10339.42
A19: SINAPI | B19: 5824 | C19: CAMINHÃO TOCO, PBT 16.000 KG, CARGA ÚTIL MÁX. 10.685 KG, DIST. ENTRE EIXOS 4,8 M, POTÊNCIA 189 CV, INCLUSIVE CARROCERIA FIXA ABERTA DE MADEIRA P/ TRANSPORTE GERAL DE CARGA SECA, DIMEN. APROX. 2,5 X 7,00 X 0,50 M - CHP DIURNO. AF_06/2014 | D19: SANTARÉM | E19: ÓBIDOS | F19: 2 | G19: =G18 -> 260 | H19: 60 | I19: ='1.MOB.'!J28 -> 3 | L19: 197.46 | M19: =ROUND((F19*G19*I19/H19)*L19,2) -> 5133.96
A20: SINAPI | B20: 91386 | C20: CAMINHÃO BASCULANTE 10 M3, TRUCADO CABINE SIMPLES, PESO BRUTO TOTAL 23.000 KG, CARGA ÚTIL MÁXIMA 15.935 KG, DISTÂNCIA ENTRE EIXOS 4,80 M, POTÊNCIA 230 CV INCLUSIVE CAÇAMBA METÁLICA - CHP DIURNO. AF_06/2014 | D20: SANTARÉM | E20: ÓBIDOS | F20: 2 | G20: =G18 -> 260 | H20: 60 | I20: ='1.MOB.'!J35 -> 2 | L20: 245.79 | M20: =ROUND((F20*G20*I20/H20)*L20,2) -> 4260.36
A21: SINAPI | B21: 83362 | C21: ESPARGIDOR DE ASFALTO PRESSURIZADO, TANQUE 6 M3 COM ISOLAÇÃO TÉRMICA, AQUECIDO COM 2 MAÇARICOS, COM BARRA ESPARGIDORA 3,60 M, MONTADO SOBRE CAMINHÃO TOCO, PBT 14.300 KG, POTÊNCIA 185 CV - CHP DIURNO. AF_08/2015 | D21: SANTARÉM | E21: ÓBIDOS | F21: 2 | G21: =G18 -> 260 | H21: 60 | I21: ='1.MOB.'!J42 -> 1 | L21: 255.01 | M21: =ROUND((F21*G21*I21/H21)*L21,2) -> 2210.09

Sheet CPU 03- SER.TOPOGR.
A5: ='DADOS DA OBRA'!A6:E6 -> ESTADO DO PARÁ
A6: ='DADOS DA OBRA'!#REF! -> #REF!
A7: ='ORÇAMENTO DESONERAÇÃO'!#REF! -> #REF!
A8: ='DADOS DA OBRA'!A10:E10 -> OBJETO: PAVIMENTAÇÃO E QUALIFICAÇÃO ASFALTICA DE VIAS URBANAS NO MUNICIPIO DE ÓBIDOS
A10: COMPOSIÇÃO DE PREÇO UNITARIO - CPU
A12: CPU 003 | B12: ='ORÇAMENTO DESONERAÇÃO'!#REF! -> #REF! | J12: ='ORÇAMENTO DESONERAÇÃO'!#REF! -> #REF! | K12: =SUM(K15:K20) -> 0.31
A14: Código | B14: Descrição | H14: Uni | I14: Quant | J14: R$ | K14: R$ Total
A15: 20206 | B15: Sarrafo de madeira não aparelhada *2,5 x 10* cm, maçaranduba, angelim ou equivalente da região | H15: m | I15: 0.002886 | J15: 7.36 | K15: =ROUND((I15*J15),2) -> 0.02
A16: 88253 | B16: Auxiliar de topógrafo com encargos complementares | H16: h | I16: 0.0025 | J16: 7.88 | K16: =ROUND((I16*J16),2) -> 0.02
A17: 88288 | B17: Nivelador com encargos complementares | H17: h | I17: 0.0025 | J17: 9.52 | K17: =ROUND((I17*J17),2) -> 0.02
A18: 88316 | B18: Servente com encargos complementares | H18: h | I18: 0.0075 | J18: 17.09 | K18: =ROUND((I18*J18),2) -> 0.13
A19: 88597 | B19: Desenhista detalhista com encargos complementares | H19: h | I19: 0.002 | J19: 27.36 | K19: =ROUND((I19*J19),2) -> 0.05
A20: 92145 | B20: Caminhonete cabine simples com motor 1.6 flex., câmbio manual, potência 101/104 cv, 2 portas - CHP diurno. Af_11/2015 | H20: chp | I20: 0.001 | J20: 68.38 | K20: =ROUND((I20*J20),2) -> 0.07
A26: CESAR EDUARDO MEDEIROS CANELAS FILHO
A27: ENG.CIVIL
A28: CREA-PA 1502763729

Sheet CPU 05-Placa Esmaltada
A5: ='DADOS DA OBRA'!A6:E6 -> ESTADO DO PARÁ
A6: ='DADOS DA OBRA'!#REF! -> #REF!
A7: ='ORÇAMENTO DESONERAÇÃO'!#REF! -> #REF!
A8: ='DADOS DA OBRA'!A10:E10 -> OBJETO: PAVIMENTAÇÃO E QUALIFICAÇÃO ASFALTICA DE VIAS URBANAS NO MUNICIPIO DE ÓBIDOS
A10: COMPOSIÇÃO DE PREÇO UNITARIO - CPU
A12: CPU 005 | B12: ='ORÇAMENTO DESONERAÇÃO'!#REF! -> #REF! | J12: ='ORÇAMENTO DESONERAÇÃO'!#REF! -> #REF! | K12: =SUM(K15:K21) -> 379.17
A14: Código | B14: Descrição | H14: Uni | I14: Quant | J14: R$ | K14: R$ Total
A15: 13521 | B15: Placa de aço esmaltada para identificação de rua, *45 cm x 20* cm | H15: Uni | I15: 2 | J15: 82.5 | K15: =ROUND((I15*J15),2) -> 165
A16: 21013 | B16: Tubo aço galvanizado com costura, classe leve, dn 50 mm ( 2"), e = 3,00 mm, *4,40*kg/m (NBR 5580) | H16: uni | I16: 1.8 | J16: 92.12 | K16: =ROUND((I16*J16),2) -> 165.82
A17: 11026 | B17: Chapa de aço galvanizada bitola GSG 14, e = 1,95 mm (15,60 kg/m2) | H17: m | I17: 0.234 | J17: 13.97 | K17: =ROUND((I17*J17),2) -> 3.27
A18: 13246 | B18: Parafuso de ferro polido, sextavado, com rosca inteira, diâmetro 5/16" | H18: kg | I18: 4 | J18: 0.35 | K18: =ROUND((I18*J18),2) -> 1.4
A19: 88317 | B19: Soldador com encargos complementares | H19: Uni | I19: 0.65 | J19: 22.01 | K19: =ROUND((I19*J19),2) -> 14.31
A20: 93358 | B20: Escavação manual de vala -30x30cm - prof. 0,85m | H20: h | I20: =(0.3*0.3*0.85) -> 0.0765 | J20: 67.6 | K20: =ROUND((I20*J20),2) -> 5.17
A21: 102487 | B21: Base em concreto ciclópico | H21: m³ | I21: =(0.3*0.3*0.85)-0.03 -> 0.0465 | J21: 520.33 | K21: =ROUND((I21*J21),2) -> 24.2
A27: CESAR EDUARDO MEDEIROS CANELAS FILHO
A28: ENG.CIVIL
A29: CREA-PA 1502763729

Sheet CPU 02 E 03 - PAV
A4: ='DADOS DA OBRA'!$A$6:$E$6 -> ESTADO DO PARÁ
A5: ='DADOS DA OBRA'!$A$7:$E$7 -> PREFEITURA MUNICIPAL DE ÓBIDOS
A6: ='DADOS DA OBRA'!$A$8:$E$8 -> CNPJ: 05.131.180/0001-64
A7: ='DADOS DA OBRA'!$A$10:$E$10 -> OBJETO: PAVIMENTAÇÃO E QUALIFICAÇÃO ASFALTICA DE VIAS URBANAS NO MUNICIPIO DE ÓBIDOS
A8: ='DADOS DA OBRA'!$A$11:$E$11 -> LOCAL: MUNCÍPIO DE ÓBIDOS
A10: COMPOSIÇÃO DE PREÇO UNITARIO - CPU
A12: Nº ITEM | B12: BASE | C12: CODIGO | D12: DESCRIÇÃO DO SERVIÇO | I12: (P) PROD EQUI | L12: UNID.
A13: CPU 02 | B13: SICRO3 | C13: 4011351 | D13: Imprimação com asfalto diluído | I13: 1125 | L13: m2
A14: COMPOSIÇÃO DE PREÇO PADRÃO DNIT
A15: BASE | B15: CÓDIGO | C15: EQUIPAMENTO | E15: UND | F15: QTD | G15: ULTILIZAÇÃO OPERATIVA | H15: ULTILIZAÇÃO OPERATIVA | I15: CUSTO OPERATIVO | J15: CUSTO IMPRODUTIVO | L15: CUSTO TOTAL
A16: SICRO3 | B16: E9509 | C16: Caminhão tanque distribuidor de asfalto com capacidade de 6.000 l - 7 kw/136 kw | E16: h | F16: 1 | G16: 1 | H16: 0 | I16: 278.33 | J16: 72.4 | L16: =(F16*G16*I16)+(F16*H16*J16) -> 278.33
A17: SICRO3 | B17: E9558 | C17: Tanque de estocagem de asfalto com capacidade de 30.000 l | E17: h | F17: 2 | G17: 1 | H17: 0 | I17: 56.96 | J17: 38.91 | L17: =(F17*G17*I17)+(F17*H17*J17) -> 113.92
A18: (E) CUSTO HORÁRIO DE EQUIPAMENTO | L18: =SUM(L16:L17) -> 392.25
A19: BASE | B19: CÓDIGO | C19: MÃO DE OBRA | H19: UND | I19: QTD | J19: SALARIO HORA | L19: CUSTO TOTAL
A20: SICRO3 | B20: P9824 | C20: Servente | H20: h | I20: 2 | J20: 19.66 | L20: =I20*J20 -> 39.32
A21: (O) CUSTO HORÁRIO DE MÃO-DE-OBRA | L21: =L20 -> 39.32
A22: (E + O + A) CUSTO HORÁRIO DE EXECUÇÃO | L22: =L18+L21 -> 431.57
A23: ( [E + O + A] / P ) CUSTO UNITÁRIO DE EXECUÇÃO | L23: =L22/I13 -> 0.38
A24: CUSTO DO FIC | L24: 0
A25: CUSTO DO FIT
A26: BASE | B26: CÓDIGO | C26: MATERIAL | H26: UND | I26: QTD | J26: CUSTO UNITÁRIO | L26: CUSTO TOTAL
A27: SICRO3 | B27: M0104 | C27: Asfalto diluído de petróleo - cm-30 | H27: t | I27: 0.0012 | J27: 7638 | L27: =I27*J27 -> 9.17
A28: CUSTO TOTAL DO MATERIAL | L28: =L27 -> 9.17
A30: CUSTO TOTAL | K30: =L28+L23 -> 9.55
A32: Nº ITEM | B32: BASE | C32: CODIGO | D32: DESCRIÇÃO DO SERVIÇO | I32: (P) PROD EQUI | L32: UNID.
A33: CPU 03 | B33: SICRO3 | C33: 4011353 | D33: Pintura de ligação | I33: 1500 | L33: m2
A34: COMPOSIÇÃO DE PREÇO PADRÃO DNIT
A35: BASE | B35: CÓDIGO | C35: EQUIPAMENTO | E35: UND | F35: QTD | G35: ULTILIZAÇÃO OPERATIVA | H35: ULTILIZAÇÃO OPERATIVA | I35: CUSTO OPERATIVO | J35: CUSTO IMPRODUTIVO | L35: CUSTO TOTAL
A36: SICRO3 | B36: E9509 | C36: Caminhão tanque distribuidor de asfalto com capacidade de 6.000 l - 7 kw/136 kw | E36: h | F36: 1 | G36: 1 | H36: 0 | I36: 278.33 | J36: 72.4 | L36: =(F36*G36*I36)+(F36*H36*J36) -> 278.33
A37: SICRO3 | B37: E9558 | C37: Tanque de estocagem de asfalto com capacidade de 30.000 l | E37: h | F37: 2 | G37: 1 | H37: 0 | I37: 56.96 | J37: 38.91 | L37: =(F37*G37*I37)+(F37*H37*J37) -> 113.92
A38: (E) CUSTO HORÁRIO DE EQUIPAMENTO | L38: =SUM(L36:L37) -> 392.25
A39: BASE | B39: CÓDIGO | C39: MÃO DE OBRA | H39: UND | I39: QTD | J39: SALARIO HORA | L39: CUSTO TOTAL
A40: SICRO3 | B40: P9824 | C40: Servente | H40: h | I40: 2 | J40: 19.66 | L40: =I40*J40 -> 39.32
A41: (O) CUSTO HORÁRIO DE MÃO-DE-OBRA | L41: =L40 -> 39.32
A42: (E + O + A) CUSTO HORÁRIO DE EXECUÇÃO | L42: =L41+L38 -> 431.57
A43: ( [E + O + A] / P ) CUSTO UNITÁRIO DE EXECUÇÃO | L43: =L42/I33 -> 0.29
A44: CUSTO DO FIC | L44: 0
A45: CUSTO DO FIT
A46: BASE | B46: CÓDIGO | C46: MATERIAL | H46: UND | I46: QTD | J46: CUSTO UNITÁRIO | L46: CUSTO TOTAL
A47: SICRO3 | B47: M1946 | C47: Emulsão asfáltica - rr-1c | H47: t | I47: 0.00045 | J47: 5922 | L47: =I47*J47 -> 2.66
...

Sheet CPU 02- Sinal.Hor.
A4: ='DADOS DA OBRA'!$A$6:$E$6 -> ESTADO DO PARÁ
A5: ='DADOS DA OBRA'!$A$7:$E$7 -> PREFEITURA MUNICIPAL DE ÓBIDOS
A6: ='DADOS DA OBRA'!$A$8:$E$8 -> CNPJ: 05.131.180/0001-64
A7: ='DADOS DA OBRA'!$A$10:$E$10 -> OBJETO: PAVIMENTAÇÃO E QUALIFICAÇÃO ASFALTICA DE VIAS URBANAS NO MUNICIPIO DE ÓBIDOS
A8: ='DADOS DA OBRA'!$A$11:$E$11 -> LOCAL: MUNCÍPIO DE ÓBIDOS
A10: COMPOSIÇÃO DE PREÇO UNITARIO - CPU
A12: CPU 002 | B12: ='ORÇAMENTO DESONERAÇÃO'!#REF! -> #REF! | K12: =SUM(K15:K21) -> 25.18
A14: Código | B14: Descrição | H14: Uni | I14: Quant | J14: R$ | K14: R$ Total
A15: 5318 | B15: Solvente diluente a base de aguarrás | H15: l | I15: 0.13 | J15: 22.87 | K15: =ROUND((I15*J15),2) -> 2.97
A16: 5824 | B16: Caminhão toco, PBT 16.000 kg, carga útil máx. 10.685 kg, dist. Entre eixos 4,8 m, potência 189 cv, inclusive carroceria fixa aberta de madeira p/ transporte geral de carga seca, dimen. Aprox. 2,5 x 7,00 x 0,50m - chp diurno. Af_06/2014 | H16: chp | I16: 0.003333 | J16: 197.46 | K16: =ROUND((I16*J16),2) -> 0.66
A17: 7348 | B17: Tinta acrílica Premium para piso | H17: l | I17: 0.03 | J17: 22.51 | K17: =ROUND((I17*J17),2) -> 0.68
A18: 7343 | B18: Tinta a base de resina acrilica, para sinalização horizontal viaria (NBR 11862) | H18: l | I18: 0.6 | J18: 13.16 | K18: =ROUND((I18*J18),2) -> 7.9
A19: 44477 | B19: Microesferas de vidro para sinalização horizontal viária, tipo i-b (premix) - nbr 16184 | H19: kg | I19: 0.4 | J19: 13.95 | K19: =ROUND((I19*J19),2) -> 5.58
A20: 88316 | B20: Servente com encargos complementares | H20: h | I20: 0.095 | J20: 19.22 | K20: =ROUND((I20*J20),2) -> 1.83
A21: 95133 | B21: Máquina demarcadora de faixa de tráfego à frio, autopropelida, potência 38 hp - chp diurno. Af_07/2016 | H21: chp | I21: 0.03333 | J21: 166.84 | K21: =ROUND((I21*J21),2) -> 5.56
A27: IANÊ TAÍNA DE CARVALHO FARIAS
A28: ENG.CIVIL - CREA-PA 26389D

Sheet CFF Desonerado
